BEGIN:VCALENDAR
VERSION:2.0
PRODID:-//www.paimn.org//NONSGML kigkonsult.se iCalcreator 2.30.10//
CALSCALE:GREGORIAN
METHOD:PUBLISH
UID:9af45d24-e180-4cc2-aa2e-69e28d755b5a
X-WR-CALDESC:
X-WR-RELCALID:028d9cf569e666dbc3ccb33795bfd10f
X-WR-TIMEZONE:America/Chicago
BEGIN:VTIMEZONE
TZID:America/Chicago
BEGIN:STANDARD
TZNAME:CST
DTSTART:20251102T020000
TZOFFSETFROM:-0500
TZOFFSETTO:-0600
RDATE:20261101T020000
RDATE:20271107T020000
END:STANDARD
BEGIN:DAYLIGHT
TZNAME:CDT
DTSTART:20260308T020000
TZOFFSETFROM:-0600
TZOFFSETTO:-0500
RDATE:20270314T020000
END:DAYLIGHT
END:VTIMEZONE
BEGIN:VEVENT
UID:053187a3-d774-4314-8af7-420a7aab84cd
DTSTAMP:20260420T052835Z
DESCRIPTION:
DTSTART;TZID=America/Chicago:20260618T180000
DTEND;TZID=America/Chicago:20260618T210000
LOCATION:
SUMMARY:PAI @ Marketfest!
END:VEVENT
END:VCALENDAR
