BEGIN:VCALENDAR
VERSION:2.0
PRODID:-//www.paimn.org//NONSGML kigkonsult.se iCalcreator 2.30.10//
CALSCALE:GREGORIAN
METHOD:PUBLISH
UID:c51245a7-c555-4e49-b67c-52e3b3b8cf9d
X-WR-CALDESC:
X-WR-RELCALID:4facafa5293abdd7545127efa7e67d34
X-WR-TIMEZONE:America/Chicago
BEGIN:VTIMEZONE
TZID:America/Chicago
BEGIN:STANDARD
TZNAME:CST
DTSTART:20251102T020000
TZOFFSETFROM:-0500
TZOFFSETTO:-0600
RDATE:20261101T020000
RDATE:20271107T020000
END:STANDARD
BEGIN:DAYLIGHT
TZNAME:CDT
DTSTART:20260308T020000
TZOFFSETFROM:-0600
TZOFFSETTO:-0500
RDATE:20270314T020000
END:DAYLIGHT
END:VTIMEZONE
BEGIN:VEVENT
UID:e1f6369a-2658-42e0-ae4d-1bf426ccc808
DTSTAMP:20260426T035959Z
DESCRIPTION:
DTSTART;TZID=America/Chicago:20260525T050000
DTEND;TZID=America/Chicago:20260525T050001
LOCATION:
SUMMARY:PAI Closed for Memorial Day
END:VEVENT
END:VCALENDAR
