BEGIN:VCALENDAR
VERSION:2.0
PRODID:-//www.paimn.org//NONSGML kigkonsult.se iCalcreator 2.30.10//
CALSCALE:GREGORIAN
METHOD:PUBLISH
UID:e4db52b3-6708-4d40-a462-aa36b952b4a0
X-WR-CALDESC:
X-WR-RELCALID:35a5a5bd8d42bc22b4f3479ef4457cde
X-WR-TIMEZONE:America/Chicago
BEGIN:VTIMEZONE
TZID:America/Chicago
BEGIN:STANDARD
TZNAME:CST
DTSTART:20251102T020000
TZOFFSETFROM:-0500
TZOFFSETTO:-0600
RDATE:20261101T020000
END:STANDARD
BEGIN:DAYLIGHT
TZNAME:CDT
DTSTART:20260308T020000
TZOFFSETFROM:-0600
TZOFFSETTO:-0500
RDATE:20270314T020000
END:DAYLIGHT
END:VTIMEZONE
BEGIN:VEVENT
UID:13192070-72ad-4798-845a-0c734aef2333
DTSTAMP:20260426T035351Z
DESCRIPTION:
DTSTART;TZID=America/Chicago:20260324T050000
DTEND;TZID=America/Chicago:20260324T050001
LOCATION:75 Rev Dr Martin Luther King Jr Boulevard.\, Saint Paul\, MN 55155
  US
SUMMARY:Disability Services Day at the Capitol
END:VEVENT
END:VCALENDAR
